BEGIN:VCALENDAR
VERSION:2.0
PRODID:-//wp-events-plugin.com//7.2.3.1//EN
TZID:America/Sao_Paulo
X-WR-TIMEZONE:America/Sao_Paulo
BEGIN:VEVENT
UID:1-6@evangelismodesaude.org
DTSTART;TZID=America/Sao_Paulo;VALUE=DATE:20190103
DTEND;TZID=America/Sao_Paulo;VALUE=DATE:20190201
DTSTAMP:20181227T173453Z
URL:https://www.evangelismodesaude.org/eventos/curso-flores-2019/
SUMMARY:Curso de Evangelismo de Saúde
DESCRIPTION:\nProfessores:\nEdivaldo Fonseca de Andrade\, graduado em Educa
 ção Fisica na UNISA\, SP\, Coordenador da Cozinha Educativa Jardim de Or
 ação\, SP.\n\nMarcia Lobo Vidotto\, Nutricionista e Palestrante\, Autora
  do livro "Saúde Nua e Crua".\n\nIracema Ayalla dos Santos\, formada em P
 sicologia na Universidade Estadual de Maringá\, Mestrado em Fisiologia Hu
 mana pela Universidade Federal de Santa Catarina\, Naturopatia na Institut
 o Sul-Americano de Ciências e Naturopatia Aplicada S/C Ltda (ISCINA).\n\n
 Manuela Alles\, formado em terapias Naturais no Curso Médico Missionária
  do Instituto Quebrada Leon\, Bolivia.\n\n[vooplayer type="video" id="ODg1
 MDU=" ]\nPreço\nR$1.200\,--  até 10 de Dezembro\nR$1.300\,-- depois de 
 10 de Dezembro\nIncluindo hospedagem\, alimentação e curso completo.\n\n
 Prazo de Inscrição: 10 de Dezembro\n\nPara mais informações ligue:\nNa
 dia:\nTIM: (54)98138 0902 – Whatsapp\nOI: (54)98447 1704
CATEGORIES:Curso de Evangelismo de Saúde
LOCATION:Gelain Colônia de Lazer\, Travessão Carvalho\, s/n\, Flores da C
 unha\, RS\, Brasil
GEO:-29.069365547121123;-51.2871390645264
X-APPLE-STRUCTURED-LOCATION;VALUE=URI;X-ADDRESS=Travessão Carvalho\, s/n\,
  Flores da Cunha\, RS\, Brasil;X-APPLE-RADIUS=100;X-TITLE=Gelain Colônia 
 de Lazer:geo:-29.069365547121123,-51.2871390645264
END:VEVENT
BEGIN:VTIMEZONE
TZID:America/Sao_Paulo
X-LIC-LOCATION:America/Sao_Paulo
BEGIN:DAYLIGHT
DTSTART:20181104T010000
TZOFFSETFROM:-0300
TZOFFSETTO:-0200
TZNAME:-02
END:DAYLIGHT
END:VTIMEZONE
END:VCALENDAR